BEGIN:VCALENDAR
VERSION:2.0
PRODID:-//wp-events-plugin.com//7.2.3.1//EN
TZID:America/New_York
X-WR-TIMEZONE:America/New_York
BEGIN:VEVENT
UID:0-472@centraljersey.media
DTSTART;TZID=America/New_York:20260208T160000
DTEND;TZID=America/New_York:20260208T180000
DTSTAMP:20251208T165526Z
URL:https://centraljersey.media/events/beethoven-grieg/
SUMMARY:Beethoven & Grieg
DESCRIPTION:Princeton Symphony Orchestra (PSO) is joined by GRAMMY®-winnin
 g pianist Michelle Cann for Edvard Grieg’s Piano Concerto. Also on the p
 rogram are Jessie Montgomery’s Records from a Vanishing City and Ludwig 
 van Beethoven’s Symphony No. 2. Kenneth Bean conducts. Richardson Audito
 rium\, Alexander Hall\, Princeton University Campus\, Princeton\, NJ. Tick
 ets start at $40 (children 5-17 who are accompanied by an adult receive a 
 50% discount)\; Accommodations or services can be arranged with two weeks
 ’ notice\, contact Mika Godbole at mgodbole@princetonsymphony.org or (60
 9) 905-0931\; For tickets: princetonsymphony.org or 609-497-0020.\n\nProgr
 ams\, artists\, dates\, and times are subject to change.
ATTACH;FMTTYPE=image/jpeg:https://media-com.website-us-east-1.linodeobject
 s.com/wp-content/uploads/sites/2/2025/12/16-Michelle-Cann-photo-credit-Tit
 ilayo-Ayangade-1.jpeg
LOCATION:Richardson Auditorium\, 68 Nassau Street\, Princeton\, NJ\, 08540\
 , United States
GEO:40.34833;-74.660611
X-APPLE-STRUCTURED-LOCATION;VALUE=URI;X-ADDRESS=68 Nassau Street\, Princeto
 n\, NJ\, 08540\, United States;X-APPLE-RADIUS=100;X-TITLE=Richardson Audit
 orium:geo:40.34833,-74.660611
END:VEVENT
BEGIN:VTIMEZONE
TZID:America/New_York
X-LIC-LOCATION:America/New_York
BEGIN:STANDARD
DTSTART:20251102T010000
TZOFFSETFROM:-0400
TZOFFSETTO:-0500
TZNAME:EST
END:STANDARD
END:VTIMEZONE
END:VCALENDAR