BEGIN:VCALENDAR
VERSION:2.0
PRODID:-//wp-events-plugin.com//7.2.3.1//EN
TZID:America/New_York
X-WR-TIMEZONE:America/New_York
BEGIN:VEVENT
UID:0-478@centraljersey.media
DTSTART;TZID=America/New_York:20260319T190000
DTEND;TZID=America/New_York:20260319T203000
DTSTAMP:20260129T203643Z
URL:https://centraljersey.media/events/erinys-quartet/
SUMMARY:Erinys Quartet
DESCRIPTION:Thursday\, March 19 at 7pm – Chamber Concert – Princeton Sy
 mphony Orchestra (PSO) presents rising stars Erinys Quartet performing wor
 ks by Webern\, Mozart\, and Debussy. Trinity Church\, 33 Mercer St.\, Prin
 ceton\, NJ. General Admission Tickets: start at $45 (children 5-17 who are
  accompanied by an adult receive a 50% discount)\; Accommodations or servi
 ces can be arranged with two weeks’ notice\, contact Mika Godbole at mgo
 dbole@princetonsymphony.org or (609) 905-0931\; For tickets: princetonsymp
 hony.org or 609-497-0020.
LOCATION:Trinity Church\, 33 Mercer Street\, Princeton\, NJ\, 08540\, Unite
 d States
GEO:40.347265;-74.664662
X-APPLE-STRUCTURED-LOCATION;VALUE=URI;X-ADDRESS=33 Mercer Street\, Princeto
 n\, NJ\, 08540\, United States;X-APPLE-RADIUS=100;X-TITLE=Trinity Church:g
 eo:40.347265,-74.664662
END:VEVENT
BEGIN:VTIMEZONE
TZID:America/New_York
X-LIC-LOCATION:America/New_York
BEGIN:DAYLIGHT
DTSTART:20260308T030000
TZOFFSETFROM:-0500
TZOFFSETTO:-0400
TZNAME:EDT
END:DAYLIGHT
END:VTIMEZONE
END:VCALENDAR