BEGIN:VCALENDAR
VERSION:2.0
PRODID:-//wp-events-plugin.com//7.2.3.1//EN
TZID:America/New_York
X-WR-TIMEZONE:America/New_York
BEGIN:VEVENT
UID:0-487@centraljersey.media
DTSTART;TZID=America/New_York:20260606T090000
DTEND;TZID=America/New_York:20260606T170000
DTSTAMP:20260330T125647Z
URL:https://centraljersey.media/events/fourth-annual-cryptids-and-paranorm
 al-productions-conference/
SUMMARY:Fourth Annual Cryptids and Paranormal Productions Conference
DESCRIPTION:\n\n\nExplore the world of mysterious creatures and unexplained
  phenomena at New Jersey's 4th Annual Cryptids and Paranormal Conference!\
 n\n\n\n\n\n\nWelcome to New Jersey’s 4th Annual Cryptids and Paranormal
  Conference! The event will be held at Crowne Plaza Princeton - Conferenc
 e Center on June 6\, 2026 at 9:00 AM (Eastern Time). Get ready for a day
  filled with mysterious creatures\, unexplained phenomena\, and thrilling 
 discussions. Join us for a deep dive into the world of cryptids and parano
 rmal activities. Whether you're a skeptic or a believer\, this event promi
 ses to leave you intrigued and questioning the unknown. Don't miss this op
 portunity to connect with fellow enthusiasts and experts in the field. See
  you there!\n\n\n
ATTACH;FMTTYPE=image/jpeg:https://media-com.website-us-east-1.linodeobject
 s.com/wp-content/uploads/sites/2/2026/03/1000037605.jpg
LOCATION:Crowne Plaza Princeton\, 900 Scudders Mill Road\, Plainsboro\, New
  Jersey\, 08536\, Central\, United States
X-APPLE-STRUCTURED-LOCATION;VALUE=URI;X-ADDRESS=900 Scudders Mill Road\, Pl
 ainsboro\, New Jersey\, 08536\, Central\, United States;X-APPLE-RADIUS=100
 ;X-TITLE=Crowne Plaza Princeton:geo:0,0
END:VEVENT
BEGIN:VTIMEZONE
TZID:America/New_York
X-LIC-LOCATION:America/New_York
BEGIN:DAYLIGHT
DTSTART:20260308T030000
TZOFFSETFROM:-0500
TZOFFSETTO:-0400
TZNAME:EDT
END:DAYLIGHT
END:VTIMEZONE
END:VCALENDAR