BEGIN:VCALENDAR
VERSION:2.0
PRODID:-//wp-events-plugin.com//7.2.3.1//EN
TZID:America/New_York
X-WR-TIMEZONE:America/New_York
BEGIN:VEVENT
UID:0-503@centraljersey.media
DTSTART;TZID=America/New_York:20260418T140000
DTEND;TZID=America/New_York:20260418T170000
DTSTAMP:20260416T165722Z
URL:https://centraljersey.media/events/listen-up-exhibit-opening/
SUMMARY:Listen Up! Exhibit Opening
DESCRIPTION:Saturday\, April 18 from 2 - 5pm – Student Art Exhibit – Jo
 in us for the opening of PSO BRAVO!'s Listen Up! Exhibit. On display are v
 isual art and poetry from area middle school students created in response 
 to Andreia Pinto Correia's Ciprés\, performed by the Princeton Symphony O
 rchestra earlier this year. The free exhibit is open to the public on Satu
 rdays and Sundays through May 3\, 10am-5pm\, and weekdays by appointment. 
 Adriana Groza Art\, 38 Spring Street\, Princeton\, NJ. Free to attend\; wh
 eelchair accessible. For more information: princetonsymphony.org/festival 
 or 609-497-0020.\n\n&nbsp\;
ATTACH;FMTTYPE=image/jpeg:https://media-com.website-us-east-1.linodeobject
 s.com/wp-content/uploads/sites/2/2026/04/20.-Norah-Meyer_1_Princeton-Frien
 ds_full_IMG_0612.jpeg
LOCATION:Adriana Groza Art\, 38 Spring Street\, Princeton\, NJ\, 08542\, Un
 ited States
X-APPLE-STRUCTURED-LOCATION;VALUE=URI;X-ADDRESS=38 Spring Street\, Princeto
 n\, NJ\, 08542\, United States;X-APPLE-RADIUS=100;X-TITLE=Adriana Groza Ar
 t:geo:0,0
END:VEVENT
BEGIN:VTIMEZONE
TZID:America/New_York
X-LIC-LOCATION:America/New_York
BEGIN:DAYLIGHT
DTSTART:20260308T030000
TZOFFSETFROM:-0500
TZOFFSETTO:-0400
TZNAME:EDT
END:DAYLIGHT
END:VTIMEZONE
END:VCALENDAR