BEGIN:VCALENDAR
VERSION:2.0
PRODID:-//wp-events-plugin.com//7.2.3.1//EN
TZID:America/New_York
X-WR-TIMEZONE:America/New_York
BEGIN:VEVENT
UID:0-504@centraljersey.media
DTSTART;TZID=America/New_York:20260503T140000
DTEND;TZID=America/New_York:20260503T153000
DTSTAMP:20260416T165645Z
URL:https://centraljersey.media/events/pso-bravo-musical-families/
SUMMARY:PSO BRAVO! Musical Families
DESCRIPTION:Sunday\, May 3 at 2pm – Free Family Event – Princeton Symph
 ony Orchestra (PSO) presents PSO BRAVO! Musical Families featuring Princet
 on Symphony Orchestra musicians introducing attendees to the sight\, sound
 s\, and favorite music of the Strings Family. Made possible by the Reed Fa
 mily. Open to the public. Princeton Public Library\, 65 Witherspoon Street
 \, Princeton\, NJ. Accommodations or services can be arranged with two wee
 ks’ notice\, contact Mika Godbole at (609)905-0931 or mgodbole@princeton
 symphony.org\; For event info visit: princetonsymphony.org or call (609)49
 7-0020.\n\nPrograms\, artists\, dates\, and times are subject to change.
ATTACH;FMTTYPE=image/jpeg:https://media-com.website-us-east-1.linodeobject
 s.com/wp-content/uploads/sites/2/2026/04/Musical-Families.jpg
LOCATION:Princeton Public Library\, 65 Witherspoon St.\, Princeton\, NJ\, 0
 8542\, United States
GEO:40.351706;-74.660322
X-APPLE-STRUCTURED-LOCATION;VALUE=URI;X-ADDRESS=65 Witherspoon St.\, Prince
 ton\, NJ\, 08542\, United States;X-APPLE-RADIUS=100;X-TITLE=Princeton Publ
 ic Library:geo:40.351706,-74.660322
END:VEVENT
BEGIN:VTIMEZONE
TZID:America/New_York
X-LIC-LOCATION:America/New_York
BEGIN:DAYLIGHT
DTSTART:20260308T030000
TZOFFSETFROM:-0500
TZOFFSETTO:-0400
TZNAME:EDT
END:DAYLIGHT
END:VTIMEZONE
END:VCALENDAR