BEGIN:VCALENDAR
VERSION:2.0
PRODID:-//wp-events-plugin.com//7.2.3.1//EN
TZID:America/New_York
X-WR-TIMEZONE:America/New_York
BEGIN:VEVENT
UID:0-482@centraljersey.media
DTSTART;TZID=America/New_York:20260305T183000
DTEND;TZID=America/New_York:20260305T183000
DTSTAMP:20260219T170752Z
URL:https://centraljersey.media/events/soundtracks-from-score-to-stage/
SUMMARY:Soundtracks: From Score to Stage
DESCRIPTION:Thursday\, March 5 at 6:30pm – PSO Soundtracks: “From Score
  to Stage” – Join composer Julian Grant in conversation with world-ren
 owned harpsichordist Mahan Esfahani as they discuss the upcoming world pre
 miere of Grant's new work for harpsichord\, Vaudeville in Teal.  Free and
  open to the public\; Presented by the Princeton Symphony Orchestra (PSO) 
 in partnership with Princeton Public Library\; sponsored by AffinIT. Princ
 eton Public Library Community Room\, 65 Witherspoon St.\, Princeton NJ. Fr
 ee and open to the public. Assistive listening devices available\, as well
  as the ability to connect to the library’s hearing loop\; Additional ac
 commodations or services (i.e. ASL\, Audio Description etc.) can be arrang
 ed with two weeks’ notice\; (609) 497-0020\; princetonsymphony.org.\n\nD
 ates\, times\, artists\, and programs subject to change.
ATTACH;FMTTYPE=image/jpeg:https://media-com.website-us-east-1.linodeobject
 s.com/wp-content/uploads/sites/2/2026/02/3.png
LOCATION:Princeton Public Library\, 65 Witherspoon St.\, Princeton\, NJ\, 0
 8542\, United States
GEO:40.351706;-74.660322
X-APPLE-STRUCTURED-LOCATION;VALUE=URI;X-ADDRESS=65 Witherspoon St.\, Prince
 ton\, NJ\, 08542\, United States;X-APPLE-RADIUS=100;X-TITLE=Princeton Publ
 ic Library:geo:40.351706,-74.660322
END:VEVENT
BEGIN:VTIMEZONE
TZID:America/New_York
X-LIC-LOCATION:America/New_York
BEGIN:STANDARD
DTSTART:20251102T010000
TZOFFSETFROM:-0400
TZOFFSETTO:-0500
TZNAME:EST
END:STANDARD
END:VTIMEZONE
END:VCALENDAR