BEGIN:VCALENDAR
VERSION:2.0
PRODID:-//wp-events-plugin.com//7.2.3.1//EN
TZID:America/New_York
X-WR-TIMEZONE:America/New_York
BEGIN:VEVENT
UID:0-477@centraljersey.media
DTSTART;TZID=America/New_York:20260204T190000
DTEND;TZID=America/New_York:20260204T203000
DTSTAMP:20260126T173724Z
URL:https://centraljersey.media/events/soundtracks-meet-the-hardanger-fidd
 le/
SUMMARY:Soundtracks: Meet the Hardanger Fiddle
DESCRIPTION:PSO Soundtracks: Meet the Hardanger Fiddle - Bergamot Quartet e
 xplores new works composed and adapted by composer and Princeton Music Dep
 artment Chair Dan Trueman specifically for unique Hardanger string instrum
 ents.  Q&amp\;A immediately following. Refreshments available. Presented 
 by the Princeton Symphony Orchestra (PSO) in partnership with Princeton Pu
 blic Library\; sponsored by AffinIT. Princeton Public Library Community Ro
 om\, 65 Witherspoon St.\, Princeton NJ. Free and open to the public. Assis
 tive listening devices available\, as well as the ability to connect to th
 e library’s hearing loop\; Additional accommodations or services (i.e. A
 SL\, Audio Description etc.) can be arranged with two weeks’ notice\; (6
 09) 497-0020\; princetonsymphony.org.\n\nDates\, times\, artists\, and pro
 grams subject to change.
ATTACH;FMTTYPE=image/jpeg:https://media-com.website-us-east-1.linodeobject
 s.com/wp-content/uploads/sites/2/2026/01/Hardanger-Instruments-hero.png
LOCATION:Princeton Public Library\, 65 Witherspoon St.\, Princeton\, NJ\, 0
 8542\, United States
GEO:40.351706;-74.660322
X-APPLE-STRUCTURED-LOCATION;VALUE=URI;X-ADDRESS=65 Witherspoon St.\, Prince
 ton\, NJ\, 08542\, United States;X-APPLE-RADIUS=100;X-TITLE=Princeton Publ
 ic Library:geo:40.351706,-74.660322
END:VEVENT
BEGIN:VTIMEZONE
TZID:America/New_York
X-LIC-LOCATION:America/New_York
BEGIN:STANDARD
DTSTART:20251102T010000
TZOFFSETFROM:-0400
TZOFFSETTO:-0500
TZNAME:EST
END:STANDARD
END:VTIMEZONE
END:VCALENDAR