BEGIN:VCALENDAR
VERSION:2.0
PRODID:-//wp-events-plugin.com//7.2.3.1//EN
TZID:America/New_York
X-WR-TIMEZONE:America/New_York
BEGIN:VEVENT
UID:0-475@centraljersey.media
DTSTART;TZID=America/New_York:20260307T193000
DTEND;TZID=America/New_York:20260307T213000
DTSTAMP:20260119T165215Z
URL:https://centraljersey.media/events/the-harpsichord-and-stravinskys-pul
 cinella/
SUMMARY:The Harpsichord and Stravinsky's Pulcinella
DESCRIPTION:Princeton Symphony Orchestra (PSO) is joined by world renowned 
 harpsichordist Mahan Esfahani for the world premiere of Julian Grant’s V
 audeville in Teal. Also on the program are Viet Cuong’s Extra(ordinarily
 ) Fancy and Igor Stravinsky’s Pulcinella. Rossen Milanov conducts. Richa
 rdson Auditorium\, Alexander Hall\, Princeton University Campus\, Princeto
 n\, NJ. Tickets start at $40 (children 5-17 who are accompanied by an adul
 t receive a 50% discount)\; Accommodations or services can be arranged wit
 h two weeks’ notice\, contact Mika Godbole at mgodbole@princetonsymphony
 .org or (609) 905-0931\; For tickets: princetonsymphony.org or 609-497-002
 0.\n\nPrograms\, artists\, dates\, and times are subject to change.
ATTACH;FMTTYPE=image/jpeg:https://media-com.website-us-east-1.linodeobject
 s.com/wp-content/uploads/sites/2/2026/01/Esfahani_Kaja-Smith-18_22-1_0.jpg
LOCATION:Richardson Auditorium\, 68 Nassau Street\, Princeton\, NJ\, 08540\
 , United States
GEO:40.34833;-74.660611
X-APPLE-STRUCTURED-LOCATION;VALUE=URI;X-ADDRESS=68 Nassau Street\, Princeto
 n\, NJ\, 08540\, United States;X-APPLE-RADIUS=100;X-TITLE=Richardson Audit
 orium:geo:40.34833,-74.660611
END:VEVENT
BEGIN:VTIMEZONE
TZID:America/New_York
X-LIC-LOCATION:America/New_York
BEGIN:STANDARD
DTSTART:20251102T010000
TZOFFSETFROM:-0400
TZOFFSETTO:-0500
TZNAME:EST
END:STANDARD
END:VTIMEZONE
END:VCALENDAR