BEGIN:VCALENDAR
VERSION:2.0
PRODID:-//wp-events-plugin.com//7.2.3.1//EN
TZID:America/New_York
X-WR-TIMEZONE:America/New_York
BEGIN:VEVENT
UID:0-480@centraljersey.media
DTSTART;TZID=America/New_York:20260314T090000
DTEND;TZID=America/New_York:20260314T141500
DTSTAMP:20260205T172727Z
URL:https://centraljersey.media/events/tri-state-blood-cancer-conference/
SUMMARY:Tri-State Blood Cancer Conference
DESCRIPTION:Blood Cancer United (formerly LLS) invites blood cancer patient
 s\, survivors\, caregivers\, family members\, and healthcare professionals
  to attend the free\, in-person 2026 Tri-State Blood Cancer Conference in 
 New York City. Presented by the Metro New York\, New Jersey\, and Connecti
 cut–Hudson Valley Regions\, this educational event will feature expert s
 peakers sharing information on blood cancer treatment options\, emerging t
 herapies\, survivorship care\, and supportive resources. Blood Cancer Unit
 ed supports individuals affected by more than 100 blood cancers\, and whil
 e the organization’s name has evolved\, its mission remains the same: to
  educate\, empower\, and support the blood cancer community. This event of
 fers a supportive environment to learn\, ask questions\, and connect with 
 others. Please note\, this is not a continuing education (CE) program.
ATTACH;FMTTYPE=image/jpeg:https://media-com.website-us-east-1.linodeobject
 s.com/wp-content/uploads/sites/2/2026/02/Tri-State-BCC-final-flyer.jpg
LOCATION:New York Marriott Marquis\, 1535 Broadway \, New York\, New York\,
  10036\, New York City\, United States
X-APPLE-STRUCTURED-LOCATION;VALUE=URI;X-ADDRESS=1535 Broadway \, New York\,
  New York\, 10036\, New York City\, United States;X-APPLE-RADIUS=100;X-TIT
 LE=New York Marriott Marquis:geo:0,0
END:VEVENT
BEGIN:VTIMEZONE
TZID:America/New_York
X-LIC-LOCATION:America/New_York
BEGIN:DAYLIGHT
DTSTART:20260308T030000
TZOFFSETFROM:-0500
TZOFFSETTO:-0400
TZNAME:EDT
END:DAYLIGHT
END:VTIMEZONE
END:VCALENDAR